BEGIN:VCALENDAR
VERSION:2.0
PRODID:-//ChurchDev//Events//EN
CALSCALE:GREGORIAN
METHOD:PUBLISH
BEGIN:VEVENT
UID:3736-20251028@www.decherdcog.com
SUMMARY:The Forge Men&#8217\;s Meeting
DTSTART:20251028T230000Z
DTEND:20251029T010000Z
DESCRIPTION:https://www.decherdcog.com/events/the-forge-mens-meeting/
LOCATION:Decherd\, TN
URL:https://www.decherdcog.com/events/the-forge-mens-meeting/
DTSTAMP:20260419T205230Z
END:VEVENT
END:VCALENDAR
